BEGIN:VCALENDAR
VERSION:2.0
BEGIN:VEVENT
DTSTART:20260425T132605
DURATION:PT00H00M00S
SUMMARY:[DEADLINE] Eξετάσεις  Σεπτέμβριος  2021
DESCRIPTION:
BEGIN:VALARM
TRIGGER:-PT24H
DURATION:PT10H
ACTION:DISPLAY
DESCRIPTION:DEADLINE REMINDER for Eξετάσεις Σεπτέμβριος 2021
END:VALARM
END:VEVENT
END:VCALENDAR
