BEGIN:VCALENDAR
VERSION:2.0
BEGIN:VEVENT
DTSTART:20201112T160000
DURATION:PT03H00M00S
SUMMARY:[COURSE] ΩΡΕΣ Μαθήματος GIS
DESCRIPTION:
END:VEVENT
BEGIN:VEVENT
DTSTART:20201119T160000
DURATION:PT03H00M00S
SUMMARY:[COURSE] ΩΡΕΣ Μαθήματος GIS
DESCRIPTION:
END:VEVENT
BEGIN:VEVENT
DTSTART:20201122T235500
DURATION:PT00H00M00S
SUMMARY:[DEADLINE] Τεστ αυτοαξιολόγησης
DESCRIPTION:Οι επιμέρους ασκήσεις είναι πολλαπλής επιλογής, με μία μοναδική απάντηση ή περισσότερες σε κάποιες ερωτήσεις, κάποιες είναι Σωστό - Λάθος και σε κάποιες πρέπει να αντιστοιχίσετε όρους μέ φράσεις (κυρίως ορλογία).
Ο αριθμός ερωτήσεων είναι 5 συνολικά. Στο τέλος της ασκήσης με την "Υποβολή" εμφανίζεται και ο βαθμός σας, το άριστα είναι 50. Το τέστ θα παραμείνεί ανοιχτό απο ώρα 18:40 (Πέμπτη 19/11) μέχρι και την Κυριακή 22/11 και ώρα 23:55. Μπορείτε να το τρέξετε όσες φορές θέλετε...
Καλή επιτυχία .... 
(deadline: 2020-11-22 23:55:00)
BEGIN:VALARM
TRIGGER:-PT24H
DURATION:PT10H
ACTION:DISPLAY
DESCRIPTION:DEADLINE REMINDER for Τεστ αυτοαξιολόγησης
END:VALARM
END:VEVENT
BEGIN:VEVENT
DTSTART:20201126T160000
DURATION:PT03H00M00S
SUMMARY:[COURSE] ΩΡΕΣ Μαθήματος GIS
DESCRIPTION:
END:VEVENT
BEGIN:VEVENT
DTSTART:20201126T175000
DURATION:PT00H00M00S
SUMMARY:[DEADLINE] Πρόοδος Νοεμβρίου στα GIS
DESCRIPTION:Οι επιμέρους ερωτήσεις θα είναι πολλαπλής επιλογής, με μία μοναδική απάντηση, ή περισσότερες σε κάποιες ερωτήσεις, κάποιες θα είναι Σωστό - Λάθος και σε κάποιες θα πρέπει να αντιστοιχίσετε όρους με φράσεις - αντιστοίχησης (κυρίως ορολογία).
 
Ο αριθμός ερωτήσεων θα είναι 10 συνολικά, το άριστα θα είναι 100. Ο χρόνος εξέτασης θα είναι 15 λεπτά (min).
 
Καλή επιτυχία .... 
(deadline: 2020-11-26 17:50:00)
BEGIN:VALARM
TRIGGER:-PT24H
DURATION:PT10H
ACTION:DISPLAY
DESCRIPTION:DEADLINE REMINDER for Πρόοδος Νοεμβρίου στα GIS
END:VALARM
END:VEVENT
BEGIN:VEVENT
DTSTART:20201203T160000
DURATION:PT03H00M00S
SUMMARY:[COURSE] ΩΡΕΣ Μαθήματος GIS
DESCRIPTION:
END:VEVENT
BEGIN:VEVENT
DTSTART:20201210T160000
DURATION:PT03H00M00S
SUMMARY:[COURSE] ΩΡΕΣ Μαθήματος GIS
DESCRIPTION:
END:VEVENT
BEGIN:VEVENT
DTSTART:20201212T212500
DURATION:PT00H00M00S
SUMMARY:[DEADLINE] Πρόοδος Νοεμβρίου στα GIS (για 2)
DESCRIPTION:Οι επιμέρους ερωτήσεις θα είναι πολλαπλής επιλογής, με μία μοναδική απάντηση, ή περισσότερες σε κάποιες ερωτήσεις, κάποιες θα είναι Σωστό - Λάθος και σε κάποιες θα πρέπει να αντιστοιχίσετε όρους με φράσεις - αντιστοίχησης (κυρίως ορολογία).
 
Ο αριθμός ερωτήσεων θα είναι 10 συνολικά, το άριστα θα είναι 100. Ο χρόνος εξέτασης θα είναι 15 λεπτά (min).
 
Καλή επιτυχία .... 
(deadline: 2020-12-12 21:25:00)
BEGIN:VALARM
TRIGGER:-PT24H
DURATION:PT10H
ACTION:DISPLAY
DESCRIPTION:DEADLINE REMINDER for Πρόοδος Νοεμβρίου στα GIS (για 2)
END:VALARM
END:VEVENT
BEGIN:VEVENT
DTSTART:20201217T160000
DURATION:PT03H00M00S
SUMMARY:[COURSE] ΩΡΕΣ Μαθήματος GIS
DESCRIPTION:
END:VEVENT
BEGIN:VEVENT
DTSTART:20201224T160000
DURATION:PT03H00M00S
SUMMARY:[COURSE] ΩΡΕΣ Μαθήματος GIS
DESCRIPTION:
END:VEVENT
BEGIN:VEVENT
DTSTART:20201231T160000
DURATION:PT03H00M00S
SUMMARY:[COURSE] ΩΡΕΣ Μαθήματος GIS
DESCRIPTION:
END:VEVENT
BEGIN:VEVENT
DTSTART:20210107T160000
DURATION:PT03H00M00S
SUMMARY:[COURSE] ΩΡΕΣ Μαθήματος GIS
DESCRIPTION:
END:VEVENT
BEGIN:VEVENT
DTSTART:20210114T160000
DURATION:PT03H00M00S
SUMMARY:[COURSE] ΩΡΕΣ Μαθήματος GIS
DESCRIPTION:
END:VEVENT
BEGIN:VEVENT
DTSTART:20210121T160000
DURATION:PT03H00M00S
SUMMARY:[COURSE] ΩΡΕΣ Μαθήματος GIS
DESCRIPTION:
END:VEVENT
BEGIN:VEVENT
DTSTART:20210123T235500
DURATION:PT00H00M00S
SUMMARY:[DEADLINE] 2o Τεστ αυτοαξιολόγησης
DESCRIPTION:Οι επιμέρους ασκήσεις είναι πολλαπλής επιλογής, με μία μοναδική απάντηση ή περισσότερες σε κάποιες ερωτήσεις, κάποιες είναι Σωστό - Λάθος και σε κάποιες πρέπει να αντιστοιχίσετε όρους μέ φράσεις (κυρίως ορλογία).
Ο αριθμός ερωτήσεων είναι 5 συνολικά. Στο τέλος της ασκήσης με την "Υποβολή" εμφανίζεται και ο βαθμός σας, το άριστα είναι 50. Το τέστ θα παραμείνεί ανοιχτό απο ώρα 18:40 (Πέμπτη 19/11) μέχρι και την Κυριακή 22/11 και ώρα 23:55. Μπορείτε να το τρέξετε όσες φορές θέλετε...
Καλή επιτυχία .... 
(deadline: 2021-01-23 23:55:00)
BEGIN:VALARM
TRIGGER:-PT24H
DURATION:PT10H
ACTION:DISPLAY
DESCRIPTION:DEADLINE REMINDER for 2o Τεστ αυτοαξιολόγησης
END:VALARM
END:VEVENT
END:VCALENDAR
