BEGIN:VCALENDAR
VERSION:2.0
BEGIN:VEVENT
DTSTART:20201128T192400
DURATION:PT00H00M00S
SUMMARY:[COURSE] yuguytuytuyru
DESCRIPTION:jygjhgjkgjhgkjgjgjhj
END:VEVENT
BEGIN:VEVENT
DTSTART:20201128T192400
DURATION:PT00H00M00S
SUMMARY:[COURSE] yuguytuytuyru
DESCRIPTION:jygjhgjkgjhgkjgjgjhj
END:VEVENT
END:VCALENDAR
