BEGIN:VCALENDAR
VERSION:2.0
BEGIN:VEVENT
DTSTART:20260425T142808
DURATION:PT00H00M00S
SUMMARY:[DEADLINE] Τελική εξέταση
DESCRIPTION:
BEGIN:VALARM
TRIGGER:-PT24H
DURATION:PT10H
ACTION:DISPLAY
DESCRIPTION:DEADLINE REMINDER for Τελική εξέταση
END:VALARM
END:VEVENT
BEGIN:VEVENT
DTSTART:20210830T173500
DURATION:PT00H00M00S
SUMMARY:[DEADLINE] Εξέταση Σεπτέμβριος 2021
DESCRIPTION:Στοιχεία Μηχανών Ι
(deadline: 2021-08-30 17:35:00)
BEGIN:VALARM
TRIGGER:-PT24H
DURATION:PT10H
ACTION:DISPLAY
DESCRIPTION:DEADLINE REMINDER for Εξέταση Σεπτέμβριος 2021
END:VALARM
END:VEVENT
END:VCALENDAR
