BEGIN:VCALENDAR
VERSION:2.0
BEGIN:VEVENT
DTSTART:20210916T113000
DURATION:PT00H00M00S
SUMMARY:[DEADLINE] Εξέταση Σεπτέμβριος 2021
DESCRIPTION:Εξεταση στο μάθημα μηχανολογικό σχέδιο Ι.
 
(deadline: 2021-09-16 11:30:00)
BEGIN:VALARM
TRIGGER:-PT24H
DURATION:PT10H
ACTION:DISPLAY
DESCRIPTION:DEADLINE REMINDER for Εξέταση Σεπτέμβριος 2021
END:VALARM
END:VEVENT
END:VCALENDAR
