BEGIN:VCALENDAR
VERSION:2.0
BEGIN:VEVENT
DTSTART:20200630T235500
DURATION:PT00H00M00S
SUMMARY:[DEADLINE] 2η  ΤΕΛΙΚΗ ΕΡΓΑΣΙΑ
DESCRIPTION:Είστε Μαρκετίστας σε μια επιχείρηση και φυσικά γνωρίζετε την επικοινωνιακή πολιτική του Μάρκετινγκ, η οποία βασίζεται στις καλές διαπροσωπικές σχέσεις. Στο πλαίσιο αυτό θέλετε να προωθήσετε την πώληση ενός προϊόντος, π.χ. κινητού τηλεφώνου ή ό,τι άλλο νομίζετε και πρέπει να διαπραγματευτείτε τη διαφήμιση του προϊόντος με διαφημιστικές εταιρείες για την πώλησή του.
 
Απαντήστε στα παρακάτω ερωτήματα:

Ποιο μέσο διαπραγμάτευσης θα χρησιμοποιήσετε και γιατί;
Ποια σημεία θα πρέπει να προσέξετε, ώστε η διαπραγμάτευσή σας με τη διαφημιστική εταιρεία να μην εμποδιστεί;
Ποια στοιχεία πιστεύετε ότι πρέπει να διακρίνουν τον Μαρκετίστα σε αυτή τη διαπραγμάτευση, για να είναι επιτυχές το αποτέλεσμα;
Σκεφτείτε ποιες τεχνικές πειθούς θα χρησιμοποιήσετε για τη διαφήμιση ενός προϊόντος

α. Επιλέξτε το προϊόν
β. Χρησιμοποιείστε ως επικοινωνιακό εργαλείο την πειθώ στο μάρκετινγκ, με αυτό τον τρόπο δημιουργήσετε εικόνες, γλωσσικές λεζάντες κ.ά.
 
Ενδεικτική Βιβλιογραφία:
Lewicki, R. Saunders, D. Minton, J. Η Φύση των Διαπραγματεύσεων. Μτφρ. Κλαίρη Παπαμιχαήλ. Αθήνα: Κριτική, 2004.
ΜακΚουέλ Ντενίς-Βιντάλ Σβεν, Σύγχρονα Μοντέλα Επικοινωνίας Για τη μελέτη της μαζικής επικοινωνίας. Μτφρ. Κάτια Μεταξά. Αθήνα: Καστανιώτης, 2001.
Kotler, P. (2000). Μάρκετινγκ-Μάνατζμεντ. Εκδόσεις Interbooks. • Μάλλιαρης, Π. (2000). Εισαγωγή στο Μάρκετινγκ. Εκδόσεις Σταμούλης.
 
Προσοχή: Η εργασία να μην ξεπερνά τις 1000 λέξεις
 
Ημερομηνία έναρξης της εργασίας: 1/6/2020
Ημερομηνία λήξης της εργασίας: 30/6/2020
(deadline: 2020-06-30 23:55:00)
BEGIN:VALARM
TRIGGER:-PT24H
DURATION:PT10H
ACTION:DISPLAY
DESCRIPTION:DEADLINE REMINDER for 2η ΤΕΛΙΚΗ ΕΡΓΑΣΙΑ
END:VALARM
END:VEVENT
BEGIN:VEVENT
DTSTART:20200825T235500
DURATION:PT00H00M00S
SUMMARY:[DEADLINE] ΑΠΑΛΛΑΚΤΙΚΗ ΕΡΓΑΣΙΑ ΕΞΕΤΑΣΕΙΣ ΣΕΠΤΕΜΒΡΙΟΥ
DESCRIPTION:ΕΡΓΑΣΙΑ
ΕΞΩΤΕΡΙΚΗ ΕΜΠΟΡΙΚΗ ΔΡΑΣΤΗΡΙΟΤΗΤΑ/ΔΙΑΠΡΑΓΜΑΤΕΥΣΗ (ΔΙΑΜΕΣΟΛΑΒΗΣΗ)
 
Σε μια Επιχείρηση Ηλεκτρονικών παιχνιδιών ο υπεύθυνος πωλήσεων έχει αναλάβει ως υπεύθυνος μάρκετινγκ την επικοινωνία με τη διαφημιστική εταιρεία για τη προώθηση του νέου προϊόντος, ώστε μέσα από αυτό να προβληθεί η επικοινωνιακή δυνατότητα και η ποιοτικά οικονομική ευεξία της Επιχείρησης, όπως αυτή αναδεικνύεται από την ποιότητα του προϊόντος. Στο πλαίσιο αυτό ο μαρκετίστας πρέπει να αναδείξει τη διαπραγματευτική αξία της πειθούς, διότι άρχισε να αναδύεται μια αντιπαράθεση ανάμεσα στην Επιχείρηση και τη διαφημιστική εταιρεία, που αφορά κυρίως το ποσό που θα καταβάλλει η Επιχείρηση στη διαφημιστική εταιρεία για τη διαφήμιση του προϊόντος. Με βάση τα παραπάνω, εάν είστε στη θέση του υπεύθυνου πωλήσεων ή μαρκετίστα:
α. Με αφορμή την παραπάνω περίπτωση να αναπτύξετε τις πέντε στρατηγικές του Μάρκετινγκ, που αναδεικνύουν και την αξία της πειθούς και να αξιολογήσετε σε ποια πρέπει να δώσετε ιδιαίτερη έμφαση για να πετύχετε το στόχο σας και για ποιο λόγο.
β. Ποια κατά τη γνώμη σας η σημασία της διαπραγμάτευσης και με ποιο τρόπο θεωρείται ότι μπορείτε να δημιουργήσετε ένα ευνοϊκό κλίμα για να διαπραγματευτείτε ένα καλό και συμφέρον χρηματικό ποσό που θα λάβει η διαφημιστική εταιρεία, ώστε να διαφημίσει με τον καλύτερο δυνατό τρόπο το προϊόν της Επιχείρησης.
 
 
ΒΙΒΛΙΟΓΡΑΦΙΑ
 (Προαιρετική)
Lewicki, R. Saunders, D. Minton, J. Η Φύση των Διαπραγματεύσεων. Μτφρ. Κλαίρη Παπαμιχαήλ. Αθήνα: Κριτική, 2004.
Kotler, P. (2000). Μάρκετινγκ-Μάνατζμεντ. Εκδόσεις Interbooks. • Μάλλιαρης, Π. (2000). Εισαγωγή στο Μάρκετινγκ. Εκδόσεις Σταμούλης.
Μαρτς Τζέιμς, Πως λαμβάνονται οι αποφάσεις. Μτφρ. Α. Γαλανοπούλου. Αθήνα: Καστανιώτης, 2007.
 
 
 
Προσοχή: Η εργασία να μην ξεπερνά τις 1000 λέξεις
 
 
 
Ημερομηνία έναρξης της εργασίας: 1/8/2020
Ημερομηνία λήξης της εργασίας: 25/8/2020
 
 
(deadline: 2020-08-25 23:55:00)
BEGIN:VALARM
TRIGGER:-PT24H
DURATION:PT10H
ACTION:DISPLAY
DESCRIPTION:DEADLINE REMINDER for ΑΠΑΛΛΑΚΤΙΚΗ ΕΡΓΑΣΙΑ ΕΞΕΤΑΣΕΙΣ ΣΕΠΤΕΜΒΡΙΟΥ
END:VALARM
END:VEVENT
BEGIN:VEVENT
DTSTART:20210125T000000
DURATION:PT00H00M00S
SUMMARY:[DEADLINE] ΕΡΓΑΣΙΑ
DESCRIPTION:(deadline: 2021-01-25 00:00:00)
BEGIN:VALARM
TRIGGER:-PT24H
DURATION:PT10H
ACTION:DISPLAY
DESCRIPTION:DEADLINE REMINDER for ΕΡΓΑΣΙΑ
END:VALARM
END:VEVENT
BEGIN:VEVENT
DTSTART:20210126T000000
DURATION:PT00H00M00S
SUMMARY:[DEADLINE] ΔΙΟΙΚΗΣΗ ΕΞΩΤΕΡΙΚΗΣ ΕΜΠΟΡΙΚΗΣ ΔΡΑΣΤΗΡΙΟΤΗΤΑΣ
DESCRIPTION:(deadline: 2021-01-26 00:00:00)
BEGIN:VALARM
TRIGGER:-PT24H
DURATION:PT10H
ACTION:DISPLAY
DESCRIPTION:DEADLINE REMINDER for ΔΙΟΙΚΗΣΗ ΕΞΩΤΕΡΙΚΗΣ ΕΜΠΟΡΙΚΗΣ ΔΡΑΣΤΗΡΙΟΤΗΤΑΣ
END:VALARM
END:VEVENT
BEGIN:VEVENT
DTSTART:20210607T235500
DURATION:PT00H00M00S
SUMMARY:[DEADLINE] ΕΞΩΤΕΡΙΚΗ ΕΜΠΟΡΙΚΗ ΔΡΑΣΤΗΡΙΟΤΗΤΑ ΚΑΙ ΔΙΑΜΕΣΟΛΑΒΗΣΗ
DESCRIPTION:(deadline: 2021-06-07 23:55:00)
BEGIN:VALARM
TRIGGER:-PT24H
DURATION:PT10H
ACTION:DISPLAY
DESCRIPTION:DEADLINE REMINDER for ΕΞΩΤΕΡΙΚΗ ΕΜΠΟΡΙΚΗ ΔΡΑΣΤΗΡΙΟΤΗΤΑ ΚΑΙ ΔΙΑΜΕΣΟΛΑΒΗΣΗ
END:VALARM
END:VEVENT
BEGIN:VEVENT
DTSTART:20210915T235500
DURATION:PT00H00M00S
SUMMARY:[DEADLINE] ΕΞΩΤΕΡΙΚΗ ΕΜΠΟΡΙΚΗ ΔΡΑΣΤΗΡΙΟΤΗΤΑ
DESCRIPTION:(deadline: 2021-09-15 23:55:00)
BEGIN:VALARM
TRIGGER:-PT24H
DURATION:PT10H
ACTION:DISPLAY
DESCRIPTION:DEADLINE REMINDER for ΕΞΩΤΕΡΙΚΗ ΕΜΠΟΡΙΚΗ ΔΡΑΣΤΗΡΙΟΤΗΤΑ
END:VALARM
END:VEVENT
BEGIN:VEVENT
DTSTART:20220125T235500
DURATION:PT00H00M00S
SUMMARY:[DEADLINE] ΕΞΩΤΕΡΙΚΗ ΕΜΠΟΡΙΚΗ ΔΡΑΣΤΗΡΙΟΤΗΤΑ
DESCRIPTION:(deadline: 2022-01-25 23:55:00)
BEGIN:VALARM
TRIGGER:-PT24H
DURATION:PT10H
ACTION:DISPLAY
DESCRIPTION:DEADLINE REMINDER for ΕΞΩΤΕΡΙΚΗ ΕΜΠΟΡΙΚΗ ΔΡΑΣΤΗΡΙΟΤΗΤΑ
END:VALARM
END:VEVENT
END:VCALENDAR
