BEGIN:VCALENDAR
VERSION:2.0
BEGIN:VEVENT
DTSTART:20260425T131758
DURATION:PT00H00M00S
SUMMARY:[DEADLINE] ΤΕΛΙΚΗ ΕΞΕΤΑΣΗ ΑΓΓΛΙΚΑ Ι - ΦΕΒΡΟΥΑΡΙΟΣ 2022
DESCRIPTION:
BEGIN:VALARM
TRIGGER:-PT24H
DURATION:PT10H
ACTION:DISPLAY
DESCRIPTION:DEADLINE REMINDER for ΤΕΛΙΚΗ ΕΞΕΤΑΣΗ ΑΓΓΛΙΚΑ Ι - ΦΕΒΡΟΥΑΡΙΟΣ 2022
END:VALARM
END:VEVENT
BEGIN:VEVENT
DTSTART:20210927T094500
DURATION:PT00H00M00S
SUMMARY:[DEADLINE] ΤΕΛΙΚΗ ΕΞΕΤΑΣΗ ΑΓΓΛΙΚΑ Ι - ΣΕΠΤΕΜΒΡΙΟΣ 2021 - ΠΑΠΑΘΑΝΑΣΙΟΥ
DESCRIPTION:Συμπληρώστε τις ασκήσεις σε 35 λεπτά.
(deadline: 2021-09-27 09:45:00)
BEGIN:VALARM
TRIGGER:-PT24H
DURATION:PT10H
ACTION:DISPLAY
DESCRIPTION:DEADLINE REMINDER for ΤΕΛΙΚΗ ΕΞΕΤΑΣΗ ΑΓΓΛΙΚΑ Ι - ΣΕΠΤΕΜΒΡΙΟΣ 2021 - ΠΑΠΑΘΑΝΑΣΙΟΥ
END:VALARM
END:VEVENT
END:VCALENDAR
