BEGIN:VCALENDAR
VERSION:2.0
BEGIN:VEVENT
DTSTART:20200720T110000
DURATION:PT00H00M00S
SUMMARY:[DEADLINE] Ρομποτική
DESCRIPTION:εξαμηνιαία εργασία
(deadline: 2020-07-20 11:00:00)
BEGIN:VALARM
TRIGGER:-PT24H
DURATION:PT10H
ACTION:DISPLAY
DESCRIPTION:DEADLINE REMINDER for Ρομποτική
END:VALARM
END:VEVENT
END:VCALENDAR
