BEGIN:VCALENDAR
VERSION:2.0
BEGIN:VEVENT
DTSTART:20210923T180000
DURATION:PT00H00M00S
SUMMARY:[DEADLINE] Εξέταση Εργαστηρίου "Τεχνολογία Μη Καταστροφικού Ελεγχου"
DESCRIPTION:https://zoom.us/my/uowm.mech6
(deadline: 2021-09-23 18:00:00)
BEGIN:VALARM
TRIGGER:-PT24H
DURATION:PT10H
ACTION:DISPLAY
DESCRIPTION:DEADLINE REMINDER for Εξέταση Εργαστηρίου "Τεχνολογία Μη Καταστροφικού Ελεγχου"
END:VALARM
END:VEVENT
END:VCALENDAR
