BEGIN:VCALENDAR
VERSION:2.0
BEGIN:VEVENT
DTSTART:20200508T235500
DURATION:PT00H00M00S
SUMMARY:[DEADLINE] 1η ΕΡΓΑΣΙΑ 2020
DESCRIPTION:Βασιζόμενοι στις Σημειώσεις καθώς και στις παρουσιάσεις των Κεφαλαίων 1 &amp; 2 του Μαθήματος, που υπάρχουν στο φάκελο "Έγγραφα", δημιουργήστε  ερωτήσεις, οι οποίες μπορουν να απαντηθούν από τις σημειώσεις και τις παρουσιάσεις. Η εργασία που θα παραδώσετε θα περιλαμβάνει τις απαντήσεις καθώς και τη σελίδα των σημειώσεων και τον αριθμό της διαφάνειας στην οποία υπάρχει η απάντηση, συμφωνα με το υπόδειγμα που υπάρχει, επίσης στο φάκελο "Έγγραφα".  
(deadline: 2020-05-08 23:55:00)
BEGIN:VALARM
TRIGGER:-PT24H
DURATION:PT10H
ACTION:DISPLAY
DESCRIPTION:DEADLINE REMINDER for 1η ΕΡΓΑΣΙΑ 2020
END:VALARM
END:VEVENT
BEGIN:VEVENT
DTSTART:20200523T235500
DURATION:PT00H00M00S
SUMMARY:[DEADLINE] 2η ΕΡΓΑΣΙΑ 2020
DESCRIPTION:Βασιζόμενοι στις Σημειώσεις καθώς και στις παρουσιάσεις του Κεφαλαίου 3 του Μαθήματος, που υπάρχουν στο φάκελο "Έγγραφα", δημιουργήστε  ερωτήσεις, οι οποίες μπορουν να απαντηθούν από τις σημειώσεις και τις παρουσιάσεις. Η εργασία που θα παραδώσετε θα περιλαμβάνει τις απαντήσεις καθώς και τη σελίδα των σημειώσεων και τον αριθμό της διαφάνειας στην οποία υπάρχει η απάντηση, συμφωνα με το υπόδειγμα που υπάρχει, επίσης στο φάκελο "Έγγραφα".  
(deadline: 2020-05-23 23:55:00)
BEGIN:VALARM
TRIGGER:-PT24H
DURATION:PT10H
ACTION:DISPLAY
DESCRIPTION:DEADLINE REMINDER for 2η ΕΡΓΑΣΙΑ 2020
END:VALARM
END:VEVENT
BEGIN:VEVENT
DTSTART:20200605T235500
DURATION:PT00H00M00S
SUMMARY:[DEADLINE] 3η ΕΡΓΑΣΙΑ 2020
DESCRIPTION:Βασιζόμενοι στις Σημειώσεις καθώς και στις παρουσιάσεις του Κεφαλαίου 4 του Μαθήματος, που υπάρχουν στο φάκελο "Έγγραφα", δημιουργήστε  ερωτήσεις, οι οποίες μπορουν να απαντηθούν από τις σημειώσεις και τις παρουσιάσεις. Η εργασία που θα παραδώσετε θα περιλαμβάνει τις απαντήσεις καθώς και τη σελίδα των σημειώσεων και τον αριθμό της διαφάνειας στην οποία υπάρχει η απάντηση, συμφωνα με το υπόδειγμα που υπάρχει, επίσης στο φάκελο "Έγγραφα".  
(deadline: 2020-06-05 23:55:00)
BEGIN:VALARM
TRIGGER:-PT24H
DURATION:PT10H
ACTION:DISPLAY
DESCRIPTION:DEADLINE REMINDER for 3η ΕΡΓΑΣΙΑ 2020
END:VALARM
END:VEVENT
BEGIN:VEVENT
DTSTART:20200611T120000
DURATION:PT00H00M00S
SUMMARY:[DEADLINE] 4η ΕΡΓΑΣΙΑ 2020
DESCRIPTION:Βασιζόμενοι στις Σημειώσεις καθώς και στις παρουσιάσεις του Κεφαλαίου 5 του Μαθήματος, που υπάρχουν στο φάκελο "Έγγραφα", δημιουργήστε  ερωτήσεις, οι οποίες μπορουν να απαντηθούν από τις σημειώσεις και τις παρουσιάσεις. Η εργασία που θα παραδώσετε θα περιλαμβάνει τις απαντήσεις καθώς και τη σελίδα των σημειώσεων και τον αριθμό της διαφάνειας στην οποία υπάρχει η απάντηση, συμφωνα με το υπόδειγμα που υπάρχει, επίσης στο φάκελο "Έγγραφα".  
(deadline: 2020-06-11 12:00:00)
BEGIN:VALARM
TRIGGER:-PT24H
DURATION:PT10H
ACTION:DISPLAY
DESCRIPTION:DEADLINE REMINDER for 4η ΕΡΓΑΣΙΑ 2020
END:VALARM
END:VEVENT
END:VCALENDAR
