BEGIN:VCALENDAR
VERSION:2.0
BEGIN:VEVENT
DTSTART:20260425T132709
DURATION:PT00H00M00S
SUMMARY:[DEADLINE] WORD ORDER-ACADEMIC WORD LIST(GROUP 2) EXERCISES
DESCRIPTION:
BEGIN:VALARM
TRIGGER:-PT24H
DURATION:PT10H
ACTION:DISPLAY
DESCRIPTION:DEADLINE REMINDER for WORD ORDER-ACADEMIC WORD LIST(GROUP 2) EXERCISES
END:VALARM
END:VEVENT
BEGIN:VEVENT
DTSTART:20260425T132709
DURATION:PT00H00M00S
SUMMARY:[DEADLINE] ARTICLES-PLURAL OF NOUNS
DESCRIPTION:
BEGIN:VALARM
TRIGGER:-PT24H
DURATION:PT10H
ACTION:DISPLAY
DESCRIPTION:DEADLINE REMINDER for ARTICLES-PLURAL OF NOUNS
END:VALARM
END:VEVENT
BEGIN:VEVENT
DTSTART:20260425T132709
DURATION:PT00H00M00S
SUMMARY:[DEADLINE] LINKING DEVICES
DESCRIPTION:
BEGIN:VALARM
TRIGGER:-PT24H
DURATION:PT10H
ACTION:DISPLAY
DESCRIPTION:DEADLINE REMINDER for LINKING DEVICES
END:VALARM
END:VEVENT
BEGIN:VEVENT
DTSTART:20260425T132709
DURATION:PT00H00M00S
SUMMARY:[DEADLINE] Subject-Verb Agreement/AWL (Group 2)
DESCRIPTION:
BEGIN:VALARM
TRIGGER:-PT24H
DURATION:PT10H
ACTION:DISPLAY
DESCRIPTION:DEADLINE REMINDER for Subject-Verb Agreement/AWL (Group 2)
END:VALARM
END:VEVENT
BEGIN:VEVENT
DTSTART:20260425T132709
DURATION:PT00H00M00S
SUMMARY:[DEADLINE] DIFFERENCES BETWEEN AmE and BrE
DESCRIPTION:
BEGIN:VALARM
TRIGGER:-PT24H
DURATION:PT10H
ACTION:DISPLAY
DESCRIPTION:DEADLINE REMINDER for DIFFERENCES BETWEEN AmE and BrE
END:VALARM
END:VEVENT
BEGIN:VEVENT
DTSTART:20260425T132709
DURATION:PT00H00M00S
SUMMARY:[DEADLINE] WHAT TO DO AND WHAT NOT TO DO IN ACADEMIC WRITING
DESCRIPTION:
BEGIN:VALARM
TRIGGER:-PT24H
DURATION:PT10H
ACTION:DISPLAY
DESCRIPTION:DEADLINE REMINDER for WHAT TO DO AND WHAT NOT TO DO IN ACADEMIC WRITING
END:VALARM
END:VEVENT
BEGIN:VEVENT
DTSTART:20260425T132709
DURATION:PT00H00M00S
SUMMARY:[DEADLINE] CITING USING APA/CHICAGO STYLE
DESCRIPTION:
BEGIN:VALARM
TRIGGER:-PT24H
DURATION:PT10H
ACTION:DISPLAY
DESCRIPTION:DEADLINE REMINDER for CITING USING APA/CHICAGO STYLE
END:VALARM
END:VEVENT
BEGIN:VEVENT
DTSTART:20260425T132709
DURATION:PT00H00M00S
SUMMARY:[DEADLINE] WRITING AN ABSTRACT
DESCRIPTION:
BEGIN:VALARM
TRIGGER:-PT24H
DURATION:PT10H
ACTION:DISPLAY
DESCRIPTION:DEADLINE REMINDER for WRITING AN ABSTRACT
END:VALARM
END:VEVENT
BEGIN:VEVENT
DTSTART:20210916T140000
DURATION:PT00H00M00S
SUMMARY:[DEADLINE] ΤΕΛΙΚΗ ΕΞΕΤΑΣΗ ΑΠΟ ΑΠΟΣΤΑΣΗ- ΣΕΠΤΕΜΒΡΙΟΣ 2021
DESCRIPTION:(deadline: 2021-09-16 14:00:00)
BEGIN:VALARM
TRIGGER:-PT24H
DURATION:PT10H
ACTION:DISPLAY
DESCRIPTION:DEADLINE REMINDER for ΤΕΛΙΚΗ ΕΞΕΤΑΣΗ ΑΠΟ ΑΠΟΣΤΑΣΗ- ΣΕΠΤΕΜΒΡΙΟΣ 2021
END:VALARM
END:VEVENT
END:VCALENDAR
