BEGIN:VCALENDAR
VERSION:2.0
BEGIN:VEVENT
DTSTART:20210902T180000
DURATION:PT00H00M00S
SUMMARY:[DEADLINE] ΑΓΓΛΙΚΑ Ι -ΕΞΕΤΑΣΤΙΚΗ ΣΕΠΤΕΜΒΡΙΟΥ 2021
DESCRIPTION:(deadline: 2021-09-02 18:00:00)
BEGIN:VALARM
TRIGGER:-PT24H
DURATION:PT10H
ACTION:DISPLAY
DESCRIPTION:DEADLINE REMINDER for ΑΓΓΛΙΚΑ Ι -ΕΞΕΤΑΣΤΙΚΗ ΣΕΠΤΕΜΒΡΙΟΥ 2021
END:VALARM
END:VEVENT
END:VCALENDAR
