BEGIN:VCALENDAR
VERSION:2.0
BEGIN:VEVENT
DTSTART:20141118T140300
DURATION:PT00H00M00S
SUMMARY:[COURSE] ΔΗΛΩΣΗ ΘΕΜΑΤΟΣ ΕΡΓΑΣΙΑΣ ΧΕΙΜΕΡΙΝΟ 2014-15
DESCRIPTION:ΕΩΣ ΤΗΝ 18η ΝΟΕΜΒΡΙΟΥ 2014 ΘΑ ΠΡΕΠΕΙ ΝΑ ΕΧΟΥΝ ΔΗΛΩΣΕΙ ΟΛΟΙ ΟΙ ΦΟΙΤΗΤΕΣ ΠΟΥ ΠΑΡΑΚΟΛΟΥΘΟΥΝ ΤΟ ΜΑΘΗΜΑ, ΘΕΜΑ ΕΡΓΑΣΙΑΣ
END:VEVENT
END:VCALENDAR
