BEGIN:VCALENDAR
VERSION:2.0
BEGIN:VEVENT
DTSTART:20200407T175900
DURATION:PT00H00M00S
SUMMARY:[COURSE] test
DESCRIPTION:
END:VEVENT
BEGIN:VEVENT
DTSTART:20200408T235500
DURATION:PT00H00M00S
SUMMARY:[DEADLINE] 1η Εργασία ΔΛΠ
DESCRIPTION:Η 1η Εργασία στο μάθημα ΔΛΠ αποτελείται από 3 μέρη (βλ. αρχείο "Ερωτήσεις 1ου Κεφαλαίου.pdf")
α) Ερωτήσεις Σωστού - Λάθους
β) Ερωτήσεις Πολλαπλής Επιλογής
γ) Ερωτήσεις Σύντομης Ανάπτυξης
 
Οι φοιτητές θα πρέπει να συμπληρώσουν το αρχείο "Απαντήσεις 1ης Άσκησης ΔΛΠ" που βρίσκεται στην κατηγορία "Έγγραφα" και να το αποστείλλουν μέσω e-class
Η εργασία είναι ατομική 
(deadline: 2020-04-08 23:55:00)
BEGIN:VALARM
TRIGGER:-PT24H
DURATION:PT10H
ACTION:DISPLAY
DESCRIPTION:DEADLINE REMINDER for 1η Εργασία ΔΛΠ
END:VALARM
END:VEVENT
BEGIN:VEVENT
DTSTART:20200521T235500
DURATION:PT00H00M00S
SUMMARY:[DEADLINE] 2η Εργασία ΔΛΠ
DESCRIPTION:Η 2η Εργασία στο μάθημα ΔΛΠ αποτελείται από 3 μέρη (βλ. αρχείο "Ερωτήσεις 2ης Εργασίας.pdf")
α) Ερωτήσεις Σωστού - Λάθους
β) Ερωτήσεις Πολλαπλής Επιλογής
γ) Ερωτήσεις Σύντομης Ανάπτυξης
 
Οι φοιτητές θα πρέπει να συμπληρώσουν το αρχείο "Απαντήσεις 2ης Άσκησης ΔΛΠ" που βρίσκεται στην κατηγορία "Έγγραφα" και να το αποστείλουν μέσω e-class
Η εργασία είναι ατομική 
(deadline: 2020-05-21 23:55:00)
BEGIN:VALARM
TRIGGER:-PT24H
DURATION:PT10H
ACTION:DISPLAY
DESCRIPTION:DEADLINE REMINDER for 2η Εργασία ΔΛΠ
END:VALARM
END:VEVENT
BEGIN:VEVENT
DTSTART:20200614T235500
DURATION:PT00H00M00S
SUMMARY:[DEADLINE] 3η Εργασία
DESCRIPTION:Η 3η Εργασία στο μάθημα ΔΛΠ αποτελείται από 2 μέρη (βλ. αρχείο " 3η Εργασία.pdf")
α) Ερωτήσεις Σωστού - Λάθους
β) Ερωτήσεις Πολλαπλής Επιλογής
 
Οι φοιτητές θα πρέπει να συμπληρώσουν το αρχείο "ΑΠΑΝΤΗΣΕΙΣ 3ης ΕΡΓΑΣΙΑΣ ΔΛΠ" που βρίσκεται στην κατηγορία "Έγγραφα" και να το αποστείλουν μέσω e-class
Η εργασία είναι ατομική 
(deadline: 2020-06-14 23:55:00)
BEGIN:VALARM
TRIGGER:-PT24H
DURATION:PT10H
ACTION:DISPLAY
DESCRIPTION:DEADLINE REMINDER for 3η Εργασία
END:VALARM
END:VEVENT
BEGIN:VEVENT
DTSTART:20210213T121500
DURATION:PT00H00M00S
SUMMARY:[DEADLINE] Εξετάσεις Φεβρουαρίου 2021
DESCRIPTION:Οι ερωτήσεις είναι 2 κατηγοριών 
Α) Σωστού- Λάθους
Β) Πολλαπλής Επιλογής 
Οι φοιτητές πρέπει να απαντήσουν όλες τις ερωτήσεις. 
Διαθέσιμος Χρόνος : 50 λεπτά
(deadline: 2021-02-13 12:15:00)
BEGIN:VALARM
TRIGGER:-PT24H
DURATION:PT10H
ACTION:DISPLAY
DESCRIPTION:DEADLINE REMINDER for Εξετάσεις Φεβρουαρίου 2021
END:VALARM
END:VEVENT
END:VCALENDAR
